BEGIN:VCALENDAR
VERSION:2.0
PRODID:-//ChamberMaster//Event Calendar 2.0//EN
METHOD:PUBLISH
X-PUBLISHED-TTL:P1H
REFRESH-INTERVAL:P1H
CALSCALE:GREGORIAN
BEGIN:VTIMEZONE
TZID:America/Phoenix
BEGIN:DAYLIGHT
DTSTART:20070311T020000
TZOFFSETFROM:-0700
TZOFFSETTO:-0700
TZNAME:(UTC-07:00) Arizona
END:DAYLIGHT
BEGIN:STANDARD
DTSTART:20071104T020000
TZOFFSETFROM:-0700
TZOFFSETTO:-0700
TZNAME:(UTC-07:00) Arizona
END:STANDARD
END:VTIMEZONE
BEGIN:VEVENT
DTSTART;TZID=America/Phoenix:20260402T103000
DTEND;TZID=America/Phoenix:20260402T133000
X-MICROSOFT-CDO-ALLDAYEVENT:FALSE
SUMMARY:Marana State of the Town 2026
DESCRIPTION:Each year\, the Marana Chamber of Commerce is excited to present the highly anticipated State of the Town event\, where key focuses\, important updates\, and exciting opportunities for the Town of Marana are shared.\n\nBe part of this community-driven event and get an insider’s look at what’s next for Marana. Whether you’re a local resident\, a business owner\, or just interested in the growth of our town\, the State of the Town is your chance to connect with leaders\, stay informed\, and be inspired!\n\nWe look forward to seeing you there and shaping the future of Marana together!\n\nTo become a sponsor\, please complete the forms below or sign up directly using the registration link. \n\nExplore Sponsorship Opportunities Here\nRegister for the Business Showcase
X-ALT-DESC;FMTTYPE=text/html:Each year\, the Marana Chamber of Commerce is excited to present the highly anticipated State of the Town event\, where key focuses\, important updates\, and exciting opportunities for the Town of Marana are shared.\n\nBe part of this community-driven event and get an insider’s look at what’s next for Marana. Whether you’re a local resident\, a business owner\, or just interested in the growth of our town\, the State of the Town is your chance to connect with leaders\, stay informed\, and be inspired!\n\nWe look forward to seeing you there and shaping the future of Marana together!\n\nTo become a sponsor\, please complete the forms below or sign up directly using the registration link. \n\nExplore Sponsorship Opportunities Here\nRegister for the Business Showcase
LOCATION:15000 N Secret Springs Dr Marana AZ 85658
UID:e.4656.1397107
SEQUENCE:3
DTSTAMP:20260421T195831Z
URL:https://members.maranachamber.com/chambereventcalendar/Details/marana-state-of-the-town-2026-1650843?sourceTypeId=Hub
END:VEVENT
END:VCALENDAR
