BEGIN:VCALENDAR
VERSION:2.0
PRODID:-//ChamberMaster//Event Calendar 2.0//EN
METHOD:PUBLISH
X-PUBLISHED-TTL:P1H
REFRESH-INTERVAL:P1H
CALSCALE:GREGORIAN
BEGIN:VTIMEZONE
TZID:America/Phoenix
BEGIN:DAYLIGHT
DTSTART:20070311T020000
TZOFFSETFROM:-0700
TZOFFSETTO:-0700
TZNAME:(UTC-07:00) Arizona
END:DAYLIGHT
BEGIN:STANDARD
DTSTART:20071104T020000
TZOFFSETFROM:-0700
TZOFFSETTO:-0700
TZNAME:(UTC-07:00) Arizona
END:STANDARD
END:VTIMEZONE
BEGIN:VEVENT
DTSTART;TZID=America/Phoenix:20260428T154500
DTEND;TZID=America/Phoenix:20260428T164500
X-MICROSOFT-CDO-ALLDAYEVENT:FALSE
SUMMARY:Contractors/Realtors Roundtable Tuesday\, April 28th
DESCRIPTION:This group includes Commercial\, Residential Contractors\, and Commercial/Residential Realtors\, plus those in Property Management/Site Management. Local contractors and related service companies support one another in the marketplace and industry. Informal introductions\, referrals\, and one featured Sponsor. Invitation Only.
X-ALT-DESC;FMTTYPE=text/html:<!DOCTYPE html><html><head><title></title></head><body aria-disabled="false"><p><strong fr-original-style="" style="font-weight: 700\;">This group includes Commercial\, Residential Contractors\, and Commercial/Residential Realtors\, plus those in Property Management/Site Management. Local contractors and related service companies support one another in the marketplace and industry. Informal introductions\, referrals\, and one featured Sponsor. Invitation Only.</strong></p></body></html>
LOCATION:6801 N Camino Verde Tucson AZ 85743
UID:e.4656.1447404
SEQUENCE:3
DTSTAMP:20260421T195807Z
URL:https://members.maranachamber.com/chambereventcalendar/Details/contractors-realtors-roundtable-tuesday-april-28th-1714341?sourceTypeId=Hub
END:VEVENT
END:VCALENDAR
